BEGIN:VCALENDAR
VERSION:2.0
PRODID:-//Classic Rock 107.7 - ECPv5.6.0//NONSGML v1.0//EN
CALSCALE:GREGORIAN
METHOD:PUBLISH
X-WR-CALNAME:Classic Rock 107.7
X-ORIGINAL-URL:https://www.classicrock1077.fm
X-WR-CALDESC:Events for Classic Rock 107.7
BEGIN:VTIMEZONE
TZID:America/New_York
BEGIN:DAYLIGHT
TZOFFSETFROM:-0500
TZOFFSETTO:-0400
TZNAME:EDT
DTSTART:20260308T070000
END:DAYLIGHT
BEGIN:STANDARD
TZOFFSETFROM:-0400
TZOFFSETTO:-0500
TZNAME:EST
DTSTART:20261101T060000
END:STANDARD
END:VTIMEZONE
BEGIN:VEVENT
DTSTART;TZID=America/New_York:20260423T073000
DTEND;TZID=America/New_York:20260425T220000
DTSTAMP:20260423T141158
CREATED:20260219T221356Z
LAST-MODIFIED:20260413T143154Z
UID:110585-1776929400-1777154400@www.classicrock1077.fm
SUMMARY:L&N Federal Credit Union: Great Balloon Fest
DESCRIPTION:L&N Federal Credit Union Great BalloonFest\n\nColorful hot air balloons will light up the Louisville skyline during one of the Kentucky Derby Festival’s signature and most picturesque events – The L&N Federal Credit Union Great BalloonFest. \n\n\nThe 2026 BalloonFest features four events taking to the skies: \nL&N Federal Credit Union Great Balloon Glow – Thursday\, April 23\, 9:00 PM at Kroger’s Fest-a-Ville \nL&N Federal Credit Union Rush-Hour Race – Friday\, April 24\, 7:00 AM at Bowman Field \nL&N Federal Credit Union Great Balloon Glow – Friday\, April 24\, 9:00 PM at Kroger’s Fest-a-Ville \nL&N Federal Credit Union Great Balloon Race – Saturday\, April 25\, 7:00 AM at Bowman Field \n\n\n\n \n 
URL:https://www.classicrock1077.fm/event/ln-federal-credit-union-great-balloon-fest-2/
LOCATION:Louisville Waterfront\, Louisville\, KY\, 40202\, United States
ATTACH;FMTTYPE=image/png:https://dehayf5mhw1h7.cloudfront.net/wp-content/uploads/sites/1822/2026/02/19171251/balloon-fest-graphic-1.png
END:VEVENT
BEGIN:VEVENT
DTSTART;TZID=America/New_York:20260425T110000
DTEND;TZID=America/New_York:20260425T170000
DTSTAMP:20260423T141158
CREATED:20260219T221935Z
LAST-MODIFIED:20260219T221935Z
UID:110588-1777114800-1777136400@www.classicrock1077.fm
SUMMARY:Ken-Ducky Derby 2026
DESCRIPTION:Ken-Ducky Derby\nRACE A DUCK! \n\nGet ready for one of the most exciting events in Louisville! \nJoin us for the annual Ken-Ducky Derby as we launch more than 40\,000 rubber ducks into the Ohio River for a chance to race and compete for prizes. Cheer your duck to victory as they race to the finish line! \nAdopt your rubber duck onsite the day of the Duck Drop\, or purchase it online beforehand at GOTDUCKS.org.  \nThe best part? Your duck purchase benefits individuals with disabilities at Harbor House of Louisville. Harbor House is a local\, nonprofit\, charity that lights the way for adults with physical and cognitive disabilities. It is a day program where the participants can come and engage in special programs like job training\, educational/tutoring classes\, cooking classes\, gardening\, community integration\, social skills\, technology classes\, therapeutic activities\, arts and humanities\, and more! \nFor more information about Harbor House\, visit www.hhlou.org or call (502) 719-0072. \nAdmission is free with a 2026 Pegasus Pin®.  \n(FOOD\, DRINK AND PETS ARE NOT PERMITTED.)
URL:https://www.classicrock1077.fm/event/ken-ducky-derby-2026/
LOCATION:Wharf at the Waterfront\, 401 W River Rd\, Louisville\, KY\, 40202\, United States
ATTACH;FMTTYPE=image/png:https://dehayf5mhw1h7.cloudfront.net/wp-content/uploads/sites/1822/2026/02/19171853/ken-ducky-derby-graphic-1.png
END:VEVENT
BEGIN:VEVENT
DTSTART;TZID=America/New_York:20260426T150000
DTEND;TZID=America/New_York:20260426T180000
DTSTAMP:20260423T141158
CREATED:20260219T222455Z
LAST-MODIFIED:20260420T153631Z
UID:110592-1777215600-1777226400@www.classicrock1077.fm
SUMMARY:Zoeller Pump Company: Pegasus Parade
DESCRIPTION:Zoeller® Pump Company Pegasus® Parade\nBUY TICKETS! \n\nThe 2026 Zoeller Pump Company Pegasus Parade returns to Broadway in Downtown Louisville on Sunday\, April 26. This family-friendly annual event showcases some of the nation’s finest marching bands and equestrian units\, along with inflatable characters and colorful floats. \nThe parade marches west on Broadway for 17 blocks and lasts approximately two hours. \nOriginating in 1956 on a budget of only $640\, the Pegasus Parade is the Kentucky Derby Festival’s oldest event. Today\, the Pegasus Parade is one of the largest in the country\, contributing an estimated impact of more than $22 million to the local economy. \n\n\nThe 2026 theme is “Festival on the Move: A Year of Milestones\, Memories and Movement!”  \nThe theme honors the journey that connects us all through movement\, celebrating our country’s history\, our community\, and the Derby Festival spirit! Participants are encouraged to celebrate all things that move from iconic American history and technological process to human-powered feats like sports and dancing. \n\n\n  \nGet the best seat on the route! Bleacher or Reserved VIP seating along the parade route. \n\nGeneral Admission bleacher seats along the route: FREE\, courtesy of Churchill Downs (first come\, first served)\nVIP Tickets: $50 (includes complimentary drinks and parking pass (seats are along Broadway between Floyd and Preston)
URL:https://www.classicrock1077.fm/event/zoeller-pump-company-pegasus-parade/
LOCATION:East Broadway
ATTACH;FMTTYPE=image/png:https://dehayf5mhw1h7.cloudfront.net/wp-content/uploads/sites/1822/2026/02/19172433/pegasus-parade-2025-graphic-1.png
END:VEVENT
BEGIN:VEVENT
DTSTART;TZID=America/New_York:20260427T180000
DTEND;TZID=America/New_York:20260427T220000
DTSTAMP:20260423T141158
CREATED:20260219T223802Z
LAST-MODIFIED:20260423T174117Z
UID:110595-1777312800-1777327200@www.classicrock1077.fm
SUMMARY:Great Bed Races | Sponsored by: Horsepower Moving & Storage!
DESCRIPTION:Great Bed Races Presented by Snap-on\nRegister Your Team \n\nGreat Bed Race Registration is NOW OPEN! \n\n\nGrab four of your co-workers\, build a bed on wheels\, decorate it\, dress in a ridiculous costume—and then race to the finish. That pretty much sums up the Kentucky Derby Festival Great Bed Races. \nEach year\, thousands of enthusiasts gather to cheer on more than 30 teams\, while on-air personalities from WAVE TV anchor the live coverage from every angle\, from the crowd to the parade of beds\, to every last heat. \nJoin Classic Rock 107.7 on-site as MJ kicks things off at the tailgate starting at 12 PM and serves as the official announcer for the Great Bed Races! \nHorsepower Moving and Storage is the official radio sponsor for the Great Bed Races! \nMonday\, April 27\, 2026\n1:00 PM: Tailgate Party Starts\n6:00 PM: Parade of the Beds\n7:00 PM: Races Begin \nSpectator admission: FREE with 2026 Pegasus Pin® \nParking: $15 KEC Parking fee. \nHosted by MJ On Air\, the awards ceremony recognizes the following winners: \n\nFastest Course Times (two divisions; champions & fun)\nBest Decorated\nMost Entertaining\nCone Eater Award\n\n\n\nThe 2026 theme is: “Festival on the Move: Ticket to Ride\,” which celebrates motion\, momentum\, and the thrill of exploration! \n\n\nBed Team Entry Fee: $175/team (includes 5 participant t-shirts and 5 collectible Pegasus Pins) \nDeadline to register a team: April 1st
URL:https://www.classicrock1077.fm/event/great-bed-races-presented-by-snap-on/
LOCATION:Kentucky Exposition Center\, 937 Phillips Ln\, Louisville\, KY\, 40209\, United States
ATTACH;FMTTYPE=image/png:https://dehayf5mhw1h7.cloudfront.net/wp-content/uploads/sites/1822/2026/02/19223802/great-bed-races-2025-sfr.png
END:VEVENT
BEGIN:VEVENT
DTSTART;TZID=America/New_York:20260428T180000
DTEND;TZID=America/New_York:20260428T210000
DTSTAMP:20260423T141158
CREATED:20260219T224559Z
LAST-MODIFIED:20260219T224559Z
UID:110598-1777399200-1777410000@www.classicrock1077.fm
SUMMARY:Commonwealth Credit Union: Winefest
DESCRIPTION:Commonwealth Credit Union WineFest\nBUY TICKETS! \n\nHeld on the Tuesday of Derby Week\, the Commonwealth Credit Union WineFest invites you to sip and savor more than 100 local wines from Kentuckiana wineries. \nSet inside the Mellwood Art Center’s Van Gogh and Davinci Rooms\, guests can stroll through select shops will enjoying pours from across the state. \n\n\nGeneral Admission 6-9 PM\nTickets: $75 \n\nWine tastings\nLight appetizers\nEtched souvenir wine glass and WineFest event pin\nOpportunity to shop our vendors and sponsor displays\n\nVIP Experience 5-9 PM (opens one hour early)\nTickets: $125 \n\nOne-hour early access starting at 5pm\nVIP Private area with seating and food stations\, including Kentucky-inspired cuisine sampling\nVIP gift\nExclusive Barrel Wine Tasting from Kentucky Derby Festival Official Wine Old 502\n\nLimited $30 Designated Driver tickets available at the door\, includes entry and Event Pin. \nParking: Attendees can park in the lower lot across the street from the venue.    \nThis is a 21+ event only. Valid ID required upon entry. \n\n\nList of Participating 2026 Wineries Coming Soon! \n\n\n  \nKentucky Wineries \nDid you know that there are over 75 small farm wineries located here in Kentucky? WineFest is your chance to learn more about them\, and sample some great wines at a comfortable venue. Find out more about the Kentucky Wineries Association (KWA) HERE. \n\n\nhttps://discover.kdf.org/winefest/
URL:https://www.classicrock1077.fm/event/commonwealth-credit-union-winefest/
LOCATION:MELLWOOD ART CENTER\, 1860 Mellwood Ave\, LOUISVILLE\, 40202
ATTACH;FMTTYPE=image/png:https://dehayf5mhw1h7.cloudfront.net/wp-content/uploads/sites/1822/2026/02/19174422/2025-winefest-graphic-1.png
END:VEVENT
BEGIN:VEVENT
DTSTART;TZID=America/New_York:20260429T163000
DTEND;TZID=America/New_York:20260429T193000
DTSTAMP:20260423T141158
CREATED:20260220T164852Z
LAST-MODIFIED:20260220T170008Z
UID:110616-1777480200-1777491000@www.classicrock1077.fm
SUMMARY:Shepherd Insurance: Great Steamboat Race
DESCRIPTION:Shepherd Insurance Great Steamboat Race\nBUY TICKETS! \n\nAs one of the original and longest standing traditions of the Kentucky Derby Festival\, the Great Steamboat Race has been taking place on the Ohio River since 1963. Ask any local\, this event has become a Louisville tradition in the leadup to Derby weekend! \nThe event pits vessels against each other\, including the Belle of Cincinnati\, as they compete for bragging rights in this race on the river! \nThe Mary M. Miller was declared the winner in 2025. Come see if our beloved local steamboat reigns supreme and takes back the coveted Silver Antlers in 2026. \nThe race lasts about 2 hours\, finishing back at the Wharf. Following the race\, the victor is awarded the pair of Silver Antlers during an Awards Ceremony on the Belle of Louisville. \n4:30 PM – 5:30 PM: Boarding\n5:45 PM: Departure\n6:00 PM: Race Begins\nAwards Ceremony Following \n\n\nBelle of Louisville Tickets: $200 (includes cruise on the Ohio River\, grab-and-go dinner\, beverages\, open bar and live entertainment) (limited availability). \nBelle of Cincinnati Tickets: $85 Cruise Only; $130 Dinner and Cruise. For Belle of Cincinnati tickets\, call 800-261-8586 or visit BBRiverboats.com. \nFree spectator viewing at Kroger’s Fest-a-Ville on the Waterfront
URL:https://www.classicrock1077.fm/event/shepherd-insurance-great-steamboat-race/
LOCATION:Wharf at the Waterfront\, 401 W River Rd\, Louisville\, KY\, 40202\, United States
ATTACH;FMTTYPE=image/png:https://dehayf5mhw1h7.cloudfront.net/wp-content/uploads/sites/1822/2026/02/20164852/great-steamboat-race-2026.png
END:VEVENT
BEGIN:VEVENT
DTSTART;TZID=America/New_York:20260429T200000
DTEND;TZID=America/New_York:20260429T233000
DTSTAMP:20260423T141158
CREATED:20260219T213123Z
LAST-MODIFIED:20260313T172859Z
UID:110577-1777492800-1777505400@www.classicrock1077.fm
SUMMARY:Get the Led Out @ The Brown Theatre
DESCRIPTION:From the bombastic and epic\, to the folky and mystical\, Get The Led Out (GTLO) have captured the essence of the recorded music of Led Zeppelin and brought it to the concert stage. The Philadelphia-based group consists of six veteran musicians intent on delivering Led Zeppelin live\, like you’ve never heard before. Utilizing the multi-instrumentalists at their disposal\, GTLO re-create the songs in all their depth and glory with the studio overdubs that Zeppelin themselves never performed. When you hear three guitars on the album…GTLO delivers three guitarists on stage. No wigs or fake English accents\, GTLO brings what the audience wants…a high energy Zeppelin concert with an honest\, heart- thumping intensity.  Dubbed by the media as “The American Led Zeppelin\,” Get The Led Out offers a strong focus on the early years. They also touch on the deeper cuts that were seldom\, if ever heard in concert. GTLO also include a special “acoustic set” with Zep favorites such as “Tangerine” and “Hey Hey What Can I Do.” GTLO has amassed a strong national touring history\, having performed at major club and PAC venues across the country. GTLO’s approach to their performance of this hallowed catalog is not unlike a classical performance. “Led Zeppelin are sort of the classical composers of the rock era\,” says lead vocalist Paul Sinclair. “I believe 100 years from now they will be looked at as the Bach or Beethoven of our time. As cliché as it sounds\, their music is timeless.” A GTLO concert mimics the “light and shade” that are the embodiment of “The Mighty Zep.” Whether it’s the passion and fury with which they deliver the blues-soaked\, groove- driven rock anthems\, it’s their attention to detail and nuance that makes a Get The Led Out performance a truly awe-inspiring event! \nAges: All \nRunning Time: TBD \nAccess Services: \n\nWheelchair Accessible Seating\nAssistive Listening Service\n\nClick here for more information on all of our accessibility services. \nCLICK HERE TO BUY TICKETS
URL:https://www.classicrock1077.fm/event/get-the-led-out-the-brown-theatre/
LOCATION:The Brown Theater\, 315 W Broadway\, Louisville\,\, KY\, 40202\, United States
ATTACH;FMTTYPE=image/png:https://dehayf5mhw1h7.cloudfront.net/wp-content/uploads/sites/1822/2026/02/19163038/get-the-led-out-the-brown-theatre-4-22-26.png
END:VEVENT
BEGIN:VEVENT
DTSTART;TZID=America/New_York:20260430T113000
DTEND;TZID=America/New_York:20260430T180000
DTSTAMP:20260423T141158
CREATED:20260220T201047Z
LAST-MODIFIED:20260220T201047Z
UID:110620-1777548600-1777572000@www.classicrock1077.fm
SUMMARY:Kentuckiana Honda Dealers: Festival Day at the Downs
DESCRIPTION:Kentuckiana Honda Dealers Festival Day At The Downs\nBUY TICKETS! \n\nEnjoy a day at the races with the Kentucky Derby Festival at the Kentuckiana Honda Dealers Day at the Downs. \nDoors open at 11:30 AM and Post Time for the first race is at 12:40 PM. The afternoon’s third race is named for the Derby Festival. The 2026 KDF Chair and the Derby Festival Queen and Royal Court will present an engraved silver tray to the winning jockey\, trainer and owner. \nHighlights include: \n\nLocated on the 4th floor Skye Terrace (all tickets are reserved seating)\nTable of 8 includes access to live in-room mutuel tellers\, self-service wagering machines and restrooms\nOffers tiered\, covered balcony to view the races\nOpen bar\, including both alcoholic and non-alcoholic beverages\nChef’s table buffet\nAccess to offsite parking at the Kentucky Fair & Exposition Center (subject to space availability)\nOfficial Race Day Program\n\n\n\nReserved Seating: $375 each; $3\,000 for a table of 8 \nPreferred Seating: $400 each; $3\,200 for a table of 8
URL:https://www.classicrock1077.fm/event/kentuckiana-honda-dealers-festival-day-at-the-downs/
LOCATION:Churchill Downs\, 700 Central Ave\, Louisville\, KY\, 40208\, United States
ATTACH;FMTTYPE=image/png:https://dehayf5mhw1h7.cloudfront.net/wp-content/uploads/sites/1822/2026/02/20151002/kentucky-derby-festival-2025-7.png
END:VEVENT
BEGIN:VEVENT
DTSTART;TZID=America/New_York:20260521T200000
DTEND;TZID=America/New_York:20260521T233000
DTSTAMP:20260423T141158
CREATED:20260409T203720Z
LAST-MODIFIED:20260417T185431Z
UID:111805-1779393600-1779406200@www.classicrock1077.fm
SUMMARY:Brit Floyd- The Wall\, The Moon\, and Beyond!
DESCRIPTION:Brit Floyd – The Wall\, The Moon and Beyond!Experience an unforgettable night of Pink Floyd music when Brit Floyd comes to The Louisville Palace on Thursday\, May 21\, 2026 at 8:00 PM. Celebrating the legendary sound\, scale\, and spirit of Pink Floyd\, this spectacular production brings fans a massive live concert experience inspired by The Dark Side of the Moon\, The Wall\, and more\, complete with stunning lights\, lasers\, video\, and theatrical staging. Doors open at 8:00 PM.\nGET YOUR TICKETS HERE 
URL:https://www.classicrock1077.fm/event/brit-floyd-the-wall-the-moon-and-beyond/
LOCATION:Louisville Palace\, 625 S Fourth Street\, Louisville\, KY\, 40202\, United States
ATTACH;FMTTYPE=image/png:https://dehayf5mhw1h7.cloudfront.net/wp-content/uploads/sites/1822/2026/04/09163627/untitled-design-1.png
END:VEVENT
BEGIN:VEVENT
DTSTART;TZID=America/New_York:20260801T160000
DTEND;TZID=America/New_York:20260801T200000
DTSTAMP:20260423T141158
CREATED:20260331T144323Z
LAST-MODIFIED:20260331T144432Z
UID:111541-1785600000-1785614400@www.classicrock1077.fm
SUMMARY:Frazier Summer Beer Fest
DESCRIPTION:Get ready to raise a glass—Frazier Summer Beer Fest is back and bigger than ever! 🍻\nJoin the Frazier History Museum on Saturday\, August 1. 2026  for one of Kentucky’s largest beer-tasting events\, taking over Main Street in downtown Louisville!\nSip your way through 250+ specialty beers from local\, regional\, and national breweries while enjoying live music\, food vendors\, and interactive fun zones throughout the festival.\nChoose your experience:\n     – VIP Admission (4PM–8PM): Early access\, exclusive beer selections\, indoor A/C\, and access inside the museum\n     – General Admission (5PM–8PM): Full access to tastings\, music\, food\, and festival fun\nThis isn’t just a party—it’s for a purpose. Frazier Summer Beer Fest is one of the museum’s biggest annual fundraisers\, supporting educational programs\, exhibits\, and community initiatives across Kentucky.\nGrab your crew\, discover new favorites\, and celebrate summer Louisville-style—because this is more than a beer fest… it’s a full-on block party!\nMust be 21+ to attend. Please drink responsibly. \nGET YOUR TICKETS HERE 
URL:https://www.classicrock1077.fm/event/frazier-summer-beer-fest-2/
LOCATION:Frazier History Museum\, 829 W Main St\,  Louisville\, KY\, 40202\, United States
ATTACH;FMTTYPE=image/png:https://dehayf5mhw1h7.cloudfront.net/wp-content/uploads/sites/1822/2026/03/31104315/untitled-design-2026-03-31t103110-782.png
END:VEVENT
BEGIN:VEVENT
DTSTART;TZID=America/New_York:20260814T200000
DTEND;TZID=America/New_York:20260814T230000
DTSTAMP:20260423T141158
CREATED:20260410T191235Z
LAST-MODIFIED:20260413T143809Z
UID:111830-1786737600-1786748400@www.classicrock1077.fm
SUMMARY:Night Ranger @ The Louisville Palace
DESCRIPTION:Classic rock legends Night Ranger are bringing their iconic sound to Louisville Palace on Friday\, August 14\, 2026!\nGet ready for a night packed with timeless hits like “Sister Christian\,” “Don’t Tell Me You Love Me\,” and (You Can Still) Rock in America as one of the most recognizable bands of the ‘80s takes the stage in downtown Louisville.\nEvent Details:📍 Louisville Palace – Louisville\, KY📅 Friday\, August 14\, 2026🕗 Show Time: 8:00 PM🚪 Doors Open: 7:00 PM\nWith decades of arena rock anthems and high-energy performances\, Night Ranger continues to deliver unforgettable live shows for fans old and new.\n👉 Get Tickets
URL:https://www.classicrock1077.fm/event/night-ranger-the-louisville-palace-2/
LOCATION:Louisville Palace\, 625 S Fourth Street\, Louisville\, KY\, 40202\, United States
ATTACH;FMTTYPE=image/png:https://dehayf5mhw1h7.cloudfront.net/wp-content/uploads/sites/1822/2026/04/10151202/untitled-design-2.png
END:VEVENT
BEGIN:VEVENT
DTSTART;TZID=America/New_York:20260917T110000
DTEND;TZID=America/New_York:20260920T233000
DTSTAMP:20260423T141158
CREATED:20260227T214901Z
LAST-MODIFIED:20260413T142838Z
UID:110773-1789642800-1789947000@www.classicrock1077.fm
SUMMARY:Louder than Life 2026
DESCRIPTION:
URL:https://www.classicrock1077.fm/event/louder-than-life-2026/
LOCATION:KY
ATTACH;FMTTYPE=image/png:https://dehayf5mhw1h7.cloudfront.net/wp-content/uploads/sites/1822/2026/02/27164603/2026-passes-on-sale-now.png
END:VEVENT
BEGIN:VEVENT
DTSTART;TZID=America/New_York:20260924T110000
DTEND;TZID=America/New_York:20260927T230000
DTSTAMP:20260423T141158
CREATED:20260218T212208Z
LAST-MODIFIED:20260220T230348Z
UID:110543-1790247600-1790550000@www.classicrock1077.fm
SUMMARY:Bourbon and Beyond 2026
DESCRIPTION:
URL:https://www.classicrock1077.fm/event/bourbon-and-beyond-2026/
LOCATION:Kentucky Exposition Center\, 937 Phillips Ln\, Louisville\, KY\, 40209\, United States
ATTACH;FMTTYPE=image/png:https://dehayf5mhw1h7.cloudfront.net/wp-content/uploads/sites/1822/2026/02/18161114/bourbon-and-beyond-2026.png
END:VEVENT
END:VCALENDAR